BEGIN:VCALENDAR
VERSION:2.0
PRODID:-//ChamberMaster//Event Calendar 2.0//EN
METHOD:PUBLISH
X-PUBLISHED-TTL:P3D
REFRESH-INTERVAL:P3D
CALSCALE:GREGORIAN
BEGIN:VEVENT
DTSTART:20140117T010000Z
DTEND:20140117T030000Z
X-MICROSOFT-CDO-ALLDAYEVENT:FALSE
SUMMARY:Business After Hours
DESCRIPTION:Please join us at the Kittitas County Chamber's January Business After Hours!\n\n\n\nThis month's BAH event is sponsored by:  \n\nWild Goose Casino\n\nThe Wild Goose Casino will be serving an assortment of their menu appetizers along with free soda\, hot chocolate\, and coffee & offering Happy Hour Drink Specials. Join us for games and door prizes too!\n\n\n\nCome and take advantage of the business networking opportunities.  Connect with new and old business friends and neighbors.\n\n\n\nThis is the best way to spend two hours!!!
X-ALT-DESC;FMTTYPE=text/html:Please join us at the Kittitas County Chamber&#39\;s January Business After&nbsp\;Hours!<br />\n<br />\nThis month&#39\;s BAH event is sponsored by: &nbsp\;<br />\n<span style="font-size:14px\;"><span style="color:#008000\;"><strong>Wild Goose Casino</strong></span></span><br />\n<span style="font-family:arial\,sans-serif\;">The Wild Goose Casino will be serving an assortment of their menu appetizers along with free soda\, hot chocolate\, and coffee &amp\; offering Happy Hour Drink Specials. Join us for games and door prizes too!</span><br />\n<br />\nCome and take advantage of the business networking opportunities.&nbsp\; Connect with new and old business friends and neighbors.<br />\n<br />\nThis is the best way to spend two hours!!!
LOCATION:Wild Goose Casino 1600 N. Currier St. Ellensburg
UID:e.40.10860
SEQUENCE:3
DTSTAMP:20260419T190630Z
URL:http://business.kittitascountychamber.com/events/details/business-after-hours-01-16-2014-10860
END:VEVENT

END:VCALENDAR
