BEGIN:VCALENDAR
VERSION:2.0
PRODID:-//ChamberMaster//Event Calendar 2.0//EN
METHOD:PUBLISH
X-PUBLISHED-TTL:P3D
REFRESH-INTERVAL:P3D
CALSCALE:GREGORIAN
BEGIN:VEVENT
DTSTART:20130118T010000Z
DTEND:20130118T030000Z
X-MICROSOFT-CDO-ALLDAYEVENT:FALSE
SUMMARY:Business After Hours
DESCRIPTION:Please join us at the Kittitas County Chamber's January Business After Hours!\n\n\n\nThis month's BAH event is sponsored by:   Best Western Plus Inn & Suites\n\n\n\nCome and take advantage of the business networking opportunities.  Connect with new and old business friends and neighbors.\n\n\n\nThis is the best way to spend two hours!!!
X-ALT-DESC;FMTTYPE=text/html:Please join us at the Kittitas County Chamber&#39\;s January Business After&nbsp\;Hours!<br />\n<br />\nThis month&#39\;s BAH event is sponsored by:&nbsp\;&nbsp\; <span data-mce-style="color: #800000\;" style="color: #800000\;"><strong><span data-mce-style="font-family: comic sans ms\;" style="font-family: comic sans ms\;"><span data-mce-style="font-size: 14px\;" style="font-size: 14px\;">Best Western Plus Inn &amp\; Suites</span></span></strong></span><br />\n<br />\nCome and take advantage of the business networking opportunities.&nbsp\; Connect with new and old business friends and neighbors.<br />\n<br />\nThis is the best way to spend two hours!!!
LOCATION:Best Western Plus Lincoln Inn & Suites 211 W. Umptanum Rd Ellensburg WA
UID:e.40.9209
SEQUENCE:3
DTSTAMP:20260420T164038Z
URL:http://business.kittitascountychamber.com/events/details/business-after-hours-01-17-2013-9209
END:VEVENT

END:VCALENDAR
