BEGIN:VCALENDAR
VERSION:2.0
PRODID:-//ChamberMaster//Event Calendar 2.0//EN
METHOD:PUBLISH
X-PUBLISHED-TTL:P3D
REFRESH-INTERVAL:P3D
CALSCALE:GREGORIAN
BEGIN:VEVENT
DTSTART:20140221T010000Z
DTEND:20140221T030000Z
X-MICROSOFT-CDO-ALLDAYEVENT:FALSE
SUMMARY:Business After Hours
DESCRIPTION:Please join us at the Kittitas County Chamber's February  Business After Hours!\n\n\n\nThis month's BAH event is sponsored by:  \n\nCanyon River Grill & Lodge\n\n\n\nCome and take advantage of the business networking opportunities.  Connect with new and old business friends and neighbors.\n\n\n\nThis is the best way to spend two hours!!!
X-ALT-DESC;FMTTYPE=text/html:Please join us at the Kittitas County Chamber&#39\;s February &nbsp\;Business After&nbsp\;Hours!<br />\n<br />\nThis month&#39\;s BAH event is sponsored by: &nbsp\;<br />\n<span style="font-size:14px\;"><span style="color:#008000\;"><strong>Canyon River Grill &amp\; Lodge</strong></span></span><br />\n<br />\nCome and take advantage of the business networking opportunities.&nbsp\; Connect with new and old business friends and neighbors.<br />\n<br />\nThis is the best way to spend two hours!!!
LOCATION:Canyon River Ranch Lodge 14694 Canyon River Rd Ellensburg
UID:e.40.10859
SEQUENCE:3
DTSTAMP:20260419T175039Z
URL:http://business.kittitascountychamber.com/events/details/business-after-hours-02-20-2014-10859
END:VEVENT

END:VCALENDAR
