BEGIN:VCALENDAR
VERSION:2.0
PRODID:-//ChamberMaster//Event Calendar 2.0//EN
METHOD:PUBLISH
X-PUBLISHED-TTL:P3D
REFRESH-INTERVAL:P3D
CALSCALE:GREGORIAN
BEGIN:VEVENT
DTSTART:20140321T000000Z
DTEND:20140321T020000Z
X-MICROSOFT-CDO-ALLDAYEVENT:FALSE
SUMMARY:Business After Hours
DESCRIPTION:Please join us at the Kittitas County Chamber's March Business After Hours!\n\n\n\nThis month's BAH event is sponsored by:  \n\nThe Daily Record\n\nTake part in fun paper games\, great food from Brisket & wine from Ellensburg WineWorks! We hope to see you there.\n\n\n\nCome and take advantage of the business networking opportunities.  Connect with new and old business friends and neighbors.\n\n\n\nThis is the best way to spend two hours!!!
X-ALT-DESC;FMTTYPE=text/html:Please join us at the Kittitas County Chamber&#39\;s March Business After&nbsp\;Hours!<br />\n<br />\nThis month&#39\;s BAH event is sponsored by:&nbsp\;&nbsp\;<br />\n<strong><font color="#0000ff" size="3">The Daily Record<br />\nTake part in fun paper games\, great food from Brisket&nbsp\;&amp\; wine from Ellensburg WineWorks! We hope to see you there.</font></strong><br />\n<br />\nCome and take advantage of the business networking opportunities.&nbsp\; Connect with new and old business friends and neighbors.<br />\n<br />\nThis is the best way to spend two hours!!!
LOCATION:The Daily Record 401 N. Main St\, Ellensburg 509-925-1414 www.dailyrecordnews.com
UID:e.40.10862
SEQUENCE:3
DTSTAMP:20260419T161511Z
URL:http://business.kittitascountychamber.com/events/details/business-after-hours-03-20-2014-10862
END:VEVENT

END:VCALENDAR
