BEGIN:VCALENDAR
VERSION:2.0
PRODID:-//ChamberMaster//Event Calendar 2.0//EN
METHOD:PUBLISH
X-PUBLISHED-TTL:P3D
REFRESH-INTERVAL:P3D
CALSCALE:GREGORIAN
BEGIN:VEVENT
DTSTART:20130322T000000Z
DTEND:20130322T020000Z
X-MICROSOFT-CDO-ALLDAYEVENT:FALSE
SUMMARY:Business After Hours
DESCRIPTION:Please join us at the Kittitas County Chamber's March Business After Hours!\n\n\n\nThis month's BAH event is sponsored by:   SK Communications / US Cellular\n\n\n\nCome and take advantage of the business networking opportunities.  Connect with new and old business friends and neighbors.\n\n\n\nThis is the best way to spend two hours!!!
X-ALT-DESC;FMTTYPE=text/html:Please join us at the Kittitas County Chamber&#39\;s March Business After&nbsp\;Hours!<br />\n<br />\nThis month&#39\;s BAH event is sponsored by:&nbsp\;&nbsp\; <span data-mce-style="color: #000080\;" style="color: #000080\;"><strong><span data-mce-style="font-family: comic sans ms\;" style="font-family: comic sans ms\;"><span data-mce-style="font-size: 14px\;" style="font-size: 14px\;"><span data-mce-style="color: #000080\;">SK Communications / US Cellular</span></span></span></strong></span><br />\n<br />\nCome and take advantage of the business networking opportunities.&nbsp\; Connect with new and old business friends and neighbors.<br />\n<br />\nThis is the best way to spend two hours!!!
LOCATION:409 S. Main St. Suite 4 Ellensburg\, WA
UID:e.40.9211
SEQUENCE:3
DTSTAMP:20260420T114118Z
URL:http://business.kittitascountychamber.com/events/details/business-after-hours-03-21-2013-9211
END:VEVENT

END:VCALENDAR
