BEGIN:VCALENDAR
VERSION:2.0
PRODID:-//ChamberMaster//Event Calendar 2.0//EN
METHOD:PUBLISH
X-PUBLISHED-TTL:P3D
REFRESH-INTERVAL:P3D
CALSCALE:GREGORIAN
BEGIN:VEVENT
DTSTART:20140418T000000Z
DTEND:20140418T020000Z
X-MICROSOFT-CDO-ALLDAYEVENT:FALSE
SUMMARY:Business After Hours
DESCRIPTION:Please join us at the Kittitas County Chamber's April Business After Hours!\n\n\n\nThis month's BAH event is sponsored by:  \n\nKittitas Yakima Valley Community Land Trust and Guild Mortgage Company\n\nEnjoy  Wine from Gifts of the Vine and appetizers provided by Guild Mortgage. \n\n\n\nCome and take advantage of the business networking opportunities.  Connect with new and old business friends and neighbors.\n\n\n\nThis is the best way to spend two hours!!!
X-ALT-DESC;FMTTYPE=text/html:Please join us at the Kittitas County Chamber&#39\;s April Business After&nbsp\;Hours!<br />\n<br />\nThis month&#39\;s BAH event is sponsored by:&nbsp\;&nbsp\;<br />\n<font color="#008000"><span style="font-size: 14px\;"><b>Kittitas&nbsp\;Yakima Valley Community Land Trust </b></span></font><span style="color: rgb(0\, 128\, 0)\;"><strong>and</strong> <strong>Guild Mortgage Company</strong></span><br />\nEnjoy &nbsp\;Wine from <strong><span style="color: rgb(75\, 0\, 130)\;">Gifts of the Vine </span></strong>and&nbsp\;appetizers provided&nbsp\;by&nbsp\;<strong><span style="color: rgb(0\, 0\, 128)\;">Guild Mortgage</span></strong>.<span style="color: rgb(128\, 0\, 128)\;">&nbsp\;</span><br />\n<br />\nCome and take advantage of the business networking opportunities.&nbsp\; Connect with new and old business friends and neighbors.<br />\n<br />\nThis is the best way to spend two hours!!!
LOCATION:611 South Ruby St. Ellensburg Parking is limited \, please feel free to use the Adult Activity Center parking lot.
UID:e.40.10863
SEQUENCE:3
DTSTAMP:20260419T143917Z
URL:http://business.kittitascountychamber.com/events/details/business-after-hours-04-17-2014-10863
END:VEVENT

END:VCALENDAR
