BEGIN:VCALENDAR
VERSION:2.0
PRODID:-//ChamberMaster//Event Calendar 2.0//EN
METHOD:PUBLISH
X-PUBLISHED-TTL:P3D
REFRESH-INTERVAL:P3D
CALSCALE:GREGORIAN
BEGIN:VEVENT
DTSTART:20130419T000000Z
DTEND:20130419T020000Z
X-MICROSOFT-CDO-ALLDAYEVENT:FALSE
SUMMARY:Business After Hours
DESCRIPTION:Please join us at the Kittitas County Chamber's May Business After Hours!\n\n\n\nThis month's BAH event is sponsored by:   Health Fitness Complete\n\n\n\nCome and take advantage of the business networking opportunities.  Connect with new and old business friends and neighbors.\n\n\n\nThis is the best way to spend two hours!!!
X-ALT-DESC;FMTTYPE=text/html:Please join us at the Kittitas County Chamber&#39\;s May Business After&nbsp\;Hours!<br />\n<br />\nThis month&#39\;s BAH event is sponsored by:&nbsp\;&nbsp\; <span style="color: rgb(128\,0\,128)"><strong><span data-mce-style="font-family: comic sans ms\;" style="font-family: comic sans ms"><span data-mce-style="font-size: 14px\;" style="font-size: 14px">Health&nbsp\;Fitness Complete</span></span></strong></span><br />\n<br />\nCome and take advantage of the business networking opportunities.&nbsp\; Connect with new and old business friends and neighbors.<br />\n<br />\nThis is the best way to spend two hours!!!
LOCATION:Health Fitness Complete 306 S. Main St.\, Ste 3 Ellensburg\, WA
UID:e.40.9278
SEQUENCE:3
DTSTAMP:20260422T103757Z
URL:http://business.kittitascountychamber.com/events/details/business-after-hours-04-18-2013-9278
END:VEVENT

END:VCALENDAR
