BEGIN:VCALENDAR
VERSION:2.0
PRODID:-//ChamberMaster//Event Calendar 2.0//EN
METHOD:PUBLISH
X-PUBLISHED-TTL:P3D
REFRESH-INTERVAL:P3D
CALSCALE:GREGORIAN
BEGIN:VEVENT
DTSTART:20140516T000000Z
DTEND:20140516T020000Z
X-MICROSOFT-CDO-ALLDAYEVENT:FALSE
SUMMARY:Business After Hours
DESCRIPTION:Please join us at the Kittitas County Chamber's May Business After Hours!\n\n\n\nThis month's BAH event is sponsored by:  \n\nThe Rotary Club of Ellensburg at the Elmira Event Center\n\nLearn more about Rotary and its impact both locally and internationally\n\nSee The Elmira Downtown Events Center and learn more about renting the facility\n\nEnjoy brats sponsored by D and D Meats\n\nWine and Beer sponsored by Rotary\n\nTasteful Jazz by Garrett Snedeker and David Weidenaar\nCome and take advantage of the business networking opportunities.  Connect with new and old business friends and neighbors.\n\n\n\nThis is the best way to spend two hours!!!
X-ALT-DESC;FMTTYPE=text/html:Please join us at the Kittitas County Chamber&#39\;s May Business After&nbsp\;Hours!<br />\n<br />\nThis month&#39\;s BAH event is sponsored by:&nbsp\;&nbsp\;<br />\n<strong><font color="#008000">The Rotary Club of&nbsp\;Ellensburg at the Elmira Event Center</font></strong>\n\n<p style="margin: 0in 0in 0pt\;"><span style="font-family: &quot\;Garamond&quot\;\,&quot\;serif&quot\;\; font-size: 12pt\;"><font color="#000000">Learn more about Rotary and its impact both locally and internationally</font></span></p>\n\n<p style="margin: 0in 0in 0pt\;"><span style="font-family: &quot\;Garamond&quot\;\,&quot\;serif&quot\;\; font-size: 12pt\;"><font color="#000000">See The Elmira Downtown Events Center and learn more about renting the facility</font></span></p>\n\n<p style="margin: 0in 0in 0pt\;"><span style="font-family: &quot\;Garamond&quot\;\,&quot\;serif&quot\;\; font-size: 12pt\;"><font color="#000000">Enjoy brats sponsored by D&nbsp\;and D Meats</font></span></p>\n\n<p style="margin: 0in 0in 0pt\;"><span style="font-family: &quot\;Garamond&quot\;\,&quot\;serif&quot\;\; font-size: 12pt\;"><font color="#000000">Wine and Beer sponsored by Rotary</font></span><br />\n<span style="font-family: &quot\;Garamond&quot\;\,&quot\;serif&quot\;\; font-size: 12pt\; mso-fareast-language: EN-US\; mso-fareast-font-family: Calibri\; mso-ansi-language: EN-US\; mso-bidi-language: AR-SA\; mso-fareast-theme-font: minor-latin\; mso-bidi-font-family: &quot\;Times New Roman&quot\;\;"><font color="#000000">Tasteful Jazz by Garrett Snedeker and David Weidenaar</font></span></p>\nCome and take advantage of the business networking opportunities.&nbsp\; Connect with new and old business friends and neighbors.<br />\n<br />\nThis is the best way to spend two hours!!!
LOCATION:117 E. 4th Ave Ellensburg\, WA
UID:e.40.10864
SEQUENCE:3
DTSTAMP:20260419T130615Z
URL:http://business.kittitascountychamber.com/events/details/business-after-hours-05-15-2014-10864
END:VEVENT

END:VCALENDAR
