BEGIN:VCALENDAR
VERSION:2.0
PRODID:-//ChamberMaster//Event Calendar 2.0//EN
METHOD:PUBLISH
X-PUBLISHED-TTL:P3D
REFRESH-INTERVAL:P3D
CALSCALE:GREGORIAN
BEGIN:VEVENT
DTSTART:20130517T000000Z
DTEND:20130517T020000Z
X-MICROSOFT-CDO-ALLDAYEVENT:FALSE
SUMMARY:Business After Hours
DESCRIPTION:Please join us at the Kittitas County Chamber's May Business After Hours!\n\n\n\nThis month's BAH event is sponsored by:\n\nEllensburg Agate & Bead Shop\n\nGourmet Nacho Bar & Beer sampling from Iron Horse Brewery\, & Wine will be served by Ellensburg Wine Works.\n\nFood\, Fun\, Beads & Agate! Come to an evening of networking and making new connections\, bring your friends\, colleagues and staff to enjoy appetizers & beverages. Don't forget your business cards for the Door Prize Drawing. Open to non-chamber members.\n\nCome and take advantage of the business networking opportunities.Connect with new and old business friends and neighbors.\n\n\n\nThis is the best way to spend two hours!!!
X-ALT-DESC;FMTTYPE=text/html:<span style="font-size: 14px\;"><span style="font-family: arial\;">Please join us at the Kittitas County Chamber&#39\;s May Business After&nbsp\;Hours!<br />\n<br />\nThis month&#39\;s BAH event is sponsored by:<br />\n<span style="color: rgb(0\, 0\, 255)\;"><strong><span data-mce-style="font-family: comic sans ms\;"><span data-mce-style="font-size: 14px\;">Ellensburg Agate &amp\; Bead Shop</span></span></strong></span><br />\nGourmet Nacho Bar&nbsp\;&amp\; Beer sampling from Iron Horse Brewery\, &amp\; Wine will be&nbsp\;served by Ellensburg Wine Works.<br />\nFood\, Fun\, Beads &amp\; Agate! Come to an evening of networking and making new connections\, bring your friends\, colleagues and staff to enjoy appetizers &amp\; beverages. Don&rsquo\;t forget your business cards for the Door Prize Drawing. Open to non-chamber members.<br />\nCome and take advantage of the business networking opportunities.Connect with new and old business friends and neighbors.</span><br />\n<br />\nThis is the best way to spend two hours!!!</span>
LOCATION:Ellensburg Agate & Bead Shop 201 S. Main St. Ellensburg\, WA
UID:e.40.9212
SEQUENCE:3
DTSTAMP:20260420T083303Z
URL:http://business.kittitascountychamber.com/events/details/business-after-hours-05-16-2013-9212
END:VEVENT

END:VCALENDAR
