BEGIN:VCALENDAR
VERSION:2.0
PRODID:-//ChamberMaster//Event Calendar 2.0//EN
METHOD:PUBLISH
X-PUBLISHED-TTL:P3D
REFRESH-INTERVAL:P3D
CALSCALE:GREGORIAN
BEGIN:VEVENT
DTSTART:20130621T000000Z
DTEND:20130621T020000Z
X-MICROSOFT-CDO-ALLDAYEVENT:FALSE
SUMMARY:Business After Hours
DESCRIPTION:Please join us at the Kittitas County Chamber's May Business After Hours!\n\n\n\nThis month's BAH event is sponsored by:   Wind River - Gifts & Home D cor\n\nCatered by JJ's - flatbread (pizza) and salads. And Tamra from Thrall & Dodge will be serving wine and many prizes to be given away in the door prize drawing! \n\n\n\nCome and take advantage of the business networking opportunities.  Connect with new and old business friends and neighbors.\n\n\n\nThis is the best way to spend two hours!!!
X-ALT-DESC;FMTTYPE=text/html:Please join us at the Kittitas County Chamber&#39\;s May Business After&nbsp\;Hours!<br />\n<br />\nThis month&#39\;s BAH event is sponsored by:&nbsp\;&nbsp\; <span data-mce-style="color: #333300\;" style="color: rgb(51\, 51\, 0)\;"><strong><span data-mce-style="font-family: comic sans ms\;" style="font-family: comic sans ms\;"><span data-mce-style="font-size: 14px\;" style="font-size: 14px\;">Wind River - Gifts &amp\; Home D&eacute\;cor<br />\n<span style="font-family: courier new\;">Catered by<span style="font-size: 10pt\;">&nbsp\;JJ&#39\;s - flatbread (pizza) and salads. And Tamra from Thrall &amp\; Dodge will be serving wine and many prizes to be given away in the door prize drawing!&nbsp\;</span></span></span></span></strong></span><br />\n<br />\nCome and take advantage of the business networking opportunities.&nbsp\; Connect with new and old business friends and neighbors.<br />\n<br />\nThis is the best way to spend two hours!!!
LOCATION:Wind River 1714 Canyon Rd. Ellensburg WA
UID:e.40.9279
SEQUENCE:3
DTSTAMP:20260420T064841Z
URL:http://business.kittitascountychamber.com/events/details/business-after-hours-06-20-2013-9279
END:VEVENT

END:VCALENDAR
