BEGIN:VCALENDAR
VERSION:2.0
PRODID:-//ChamberMaster//Event Calendar 2.0//EN
METHOD:PUBLISH
X-PUBLISHED-TTL:P3D
REFRESH-INTERVAL:P3D
CALSCALE:GREGORIAN
BEGIN:VEVENT
DTSTART:20130719T000000Z
DTEND:20130719T020000Z
X-MICROSOFT-CDO-ALLDAYEVENT:FALSE
SUMMARY:Business After Hours
DESCRIPTION:Please join us at the Kittitas County Chamber's July Business After Hours!\n\n\n\nThis month's BAH event is sponsored by:   KEEN at Forterra Offices\n\n\n\nCome and take advantage of the business networking opportunities.  Connect with new and old business friends and neighbors.\n\n\n\nThis is the best way to spend two hours!!!
X-ALT-DESC;FMTTYPE=text/html:Please join us at the Kittitas County Chamber&#39\;s July Business After&nbsp\;Hours!<br />\n<br />\nThis month&#39\;s BAH event is sponsored by:&nbsp\;&nbsp\; <strong><font face="Comic Sans MS"><font color="#800000">KEEN at Forterra Offices</font></font></strong><br />\n<br />\nCome and take advantage of the business networking opportunities.&nbsp\; Connect with new and old business friends and neighbors.<br />\n<br />\nThis is the best way to spend two hours!!!
LOCATION:Forterra 409 N. Pine St. Ellensburg WA
UID:e.40.9280
SEQUENCE:3
DTSTAMP:20260420T050609Z
URL:http://business.kittitascountychamber.com/events/details/business-after-hours-07-18-2013-9280
END:VEVENT

END:VCALENDAR
