BEGIN:VCALENDAR
VERSION:2.0
PRODID:-//ChamberMaster//Event Calendar 2.0//EN
METHOD:PUBLISH
X-PUBLISHED-TTL:P3D
REFRESH-INTERVAL:P3D
CALSCALE:GREGORIAN
BEGIN:VEVENT
DTSTART:20130920T000000Z
DTEND:20130920T020000Z
X-MICROSOFT-CDO-ALLDAYEVENT:FALSE
SUMMARY:Business After Hours
DESCRIPTION:Please join us at the Kittitas County Chamber's August Business After Hours!\n\n\n\nThis month's BAH event is sponsored by:   Habitat For Humanity Come and take advantage of the business networking opportunities.  Connect with new and old business friends and neighbors.\n\n\n\nThis is the best way to spend two hours!!!
X-ALT-DESC;FMTTYPE=text/html:Please join us at the Kittitas County Chamber&#39\;s August Business After&nbsp\;Hours!<br />\n<br />\nThis month&#39\;s BAH event is sponsored by:&nbsp\;&nbsp\; <span style="color: rgb(0\, 51\, 102)\;"><strong><span data-mce-style="font-family: comic sans ms\;" style="font-family: comic sans ms\;"><span data-mce-style="font-size: 14px\;" style="font-size: 14px\;">Habitat For Humanity </span></span></strong></span>Come and take advantage of the business networking opportunities.&nbsp\; Connect with new and old business friends and neighbors.<br />\n<br />\nThis is the best way to spend two hours!!!
LOCATION:212 S. Railroad Ave Ellensburg\, WA
UID:e.40.10156
SEQUENCE:3
DTSTAMP:20260420T015538Z
URL:http://business.kittitascountychamber.com/events/details/business-after-hours-09-19-2013-10156
END:VEVENT

END:VCALENDAR
