BEGIN:VCALENDAR
VERSION:2.0
PRODID:-//ChamberMaster//Event Calendar 2.0//EN
METHOD:PUBLISH
X-PUBLISHED-TTL:P3D
REFRESH-INTERVAL:P3D
CALSCALE:GREGORIAN
BEGIN:VEVENT
DTSTART:20190719T000000Z
DTEND:20190719T020000Z
X-MICROSOFT-CDO-ALLDAYEVENT:FALSE
SUMMARY:Business After Hours
DESCRIPTION:Join the Kittitas County Chamber of Commerce for their monthly networking event\, Business After Hours at Youth Services! We are happy to support Youth Service's "Open Space" night\, so bring your kiddos for some "mocktails". \n\nEnjoy food and drink\, and raffle prizes!
X-ALT-DESC;FMTTYPE=text/html:Join the Kittitas County Chamber of Commerce for their monthly networking event\, Business After Hours at Youth Services! We are happy to support Youth Service&#39\;s &quot\;Open Space&quot\; night\, so bring your kiddos for some &quot\;mocktails&quot\;.&nbsp\;<br />\nEnjoy food and drink\, and raffle prizes!&nbsp\;
LOCATION:Youth Services 213 W 3rd Ave Ellensburg WA
UID:e.40.25865
SEQUENCE:3
DTSTAMP:20260421T131714Z
URL:http://business.kittitascountychamber.com/events/details/business-after-hours-25865
END:VEVENT

END:VCALENDAR
