BEGIN:VCALENDAR
VERSION:2.0
PRODID:-//ChamberMaster//Event Calendar 2.0//EN
METHOD:PUBLISH
X-PUBLISHED-TTL:P3D
REFRESH-INTERVAL:P3D
CALSCALE:GREGORIAN
BEGIN:VEVENT
DTSTART:20120420T000000Z
DTEND:20120420T020000Z
X-MICROSOFT-CDO-ALLDAYEVENT:FALSE
SUMMARY:Business After Hours - April 2012
DESCRIPTION:Hosted by Solarity Credit Union
X-ALT-DESC;FMTTYPE=text/html:Hosted by Solarity&nbsp\;Credit Union
LOCATION:Solarity Credit Union 900 S Ruby Street Ellensburg
UID:e.40.8392
SEQUENCE:3
DTSTAMP:20260421T082838Z
URL:http://business.kittitascountychamber.com/events/details/business-after-hours-april-2012-04-19-2012-8392
END:VEVENT

END:VCALENDAR
