BEGIN:VCALENDAR
VERSION:2.0
PRODID:-//ChamberMaster//Event Calendar 2.0//EN
METHOD:PUBLISH
X-PUBLISHED-TTL:P3D
REFRESH-INTERVAL:P3D
CALSCALE:GREGORIAN
BEGIN:VEVENT
DTSTART:20140405T020000Z
DTEND:20140427T050000Z
X-MICROSOFT-CDO-ALLDAYEVENT:FALSE
SUMMARY:Cabaret Showcase at Swiftwater Cellars
DESCRIPTION:Enjoy of evening of Cabaret Dancing with food and drink special inspired from the roaring twenties!
X-ALT-DESC;FMTTYPE=text/html:Enjoy of evening of Cabaret Dancing with food and drink special inspired from the roaring twenties!
LOCATION:Swiftwater Cellars inside Suncadia Resort
UID:e.40.11288
SEQUENCE:3
DTSTAMP:20260419T143758Z
URL:http://business.kittitascountychamber.com/events/details/cabaret-showcase-at-swiftwater-cellars-04-04-2014-11288
END:VEVENT

END:VCALENDAR
