BEGIN:VCALENDAR
VERSION:2.0
PRODID:-//ChamberMaster//Event Calendar 2.0//EN
METHOD:PUBLISH
X-PUBLISHED-TTL:P3D
REFRESH-INTERVAL:P3D
CALSCALE:GREGORIAN
BEGIN:VEVENT
DTSTART:20130309T000000Z
DTEND:20130309T030000Z
X-MICROSOFT-CDO-ALLDAYEVENT:FALSE
SUMMARY:Camaraderie Cellars Wine Tasting at WineWorks
DESCRIPTION:We are very excited to have winemaker Don Corson of Camaraderie Cellars at WineWorks Friday night.  This is an opportuinity to meet the man behind the making of our very own Rodeo Chute wines!  Don is pouring a selection of his fanastic red wines.  Tasting starts at 4pm.
X-ALT-DESC;FMTTYPE=text/html:We are very excited to have winemaker Don Corson of Camaraderie Cellars at WineWorks Friday night. &nbsp\;This is an opportuinity to meet the man behind the making of our very own Rodeo Chute wines! &nbsp\;Don is pouring a selection of his fanastic red wines. &nbsp\;Tasting starts at 4pm. &nbsp\;
LOCATION:Ellensburg WineWorks\, 115 E 4th Avenue\, Ellensburg\, WA 98926
UID:e.40.9288
SEQUENCE:3
DTSTAMP:20260420T113805Z
URL:http://business.kittitascountychamber.com/events/details/camaraderie-cellars-wine-tasting-at-wineworks-03-08-2013-9288
END:VEVENT

END:VCALENDAR
