BEGIN:VCALENDAR
VERSION:2.0
PRODID:-//ChamberMaster//Event Calendar 2.0//EN
METHOD:PUBLISH
X-PUBLISHED-TTL:P3D
REFRESH-INTERVAL:P3D
CALSCALE:GREGORIAN
BEGIN:VEVENT
DTSTART:20130520T190000Z
DTEND:20130520T210000Z
X-MICROSOFT-CDO-ALLDAYEVENT:FALSE
SUMMARY:Cancer Support Group
DESCRIPTION:Guest speakers discuss cancer prevention\, detection\, and treatment\, as well as cancer research and the results of clinical trials. The group meets the second Monday of each month except in December and January.
X-ALT-DESC;FMTTYPE=text/html:Guest speakers discuss cancer prevention\, detection\, and treatment\, as well as cancer research and the results of clinical trials. The group meets the second Monday of each month except in December and January. 
LOCATION:KVH Hospital\, 603 S. Chestnut St.\, Ellensburg - Upstairs conference room
UID:e.40.10314
SEQUENCE:3
DTSTAMP:20260420T082945Z
URL:http://business.kittitascountychamber.com/events/details/cancer-support-group-05-20-2013-10314
END:VEVENT

END:VCALENDAR
