BEGIN:VCALENDAR
VERSION:2.0
PRODID:-//ChamberMaster//Event Calendar 2.0//EN
METHOD:PUBLISH
X-PUBLISHED-TTL:P3D
REFRESH-INTERVAL:P3D
CALSCALE:GREGORIAN
BEGIN:VEVENT
DTSTART:20130311T190000Z
DTEND:20130311T210000Z
X-MICROSOFT-CDO-ALLDAYEVENT:FALSE
SUMMARY:Cancer Survivor Support Group
DESCRIPTION:Guest speakers discuss cancer prevention\, detection\, and treatment\, as well as cancer research and the results of clinical trials. The group meets the second Monday of each month except in December and January. Location: KVH Hospital Conference Rooms A & B Time: Noon
X-ALT-DESC;FMTTYPE=text/html:Guest speakers discuss cancer prevention\, detection\, and treatment\, as well as cancer research and the results of clinical trials. The group meets the second Monday of each month except in December and January. Location: KVH Hospital Conference Rooms A &amp\; B Time: Noon
LOCATION:KVH Hospital (formerly KVCH)
UID:e.40.9254
SEQUENCE:3
DTSTAMP:20260420T113815Z
URL:http://business.kittitascountychamber.com/events/details/cancer-survivor-support-group-03-11-2013-9254
END:VEVENT

END:VCALENDAR
