BEGIN:VCALENDAR
VERSION:2.0
PRODID:-//ChamberMaster//Event Calendar 2.0//EN
METHOD:PUBLISH
X-PUBLISHED-TTL:P3D
REFRESH-INTERVAL:P3D
CALSCALE:GREGORIAN
BEGIN:VEVENT
DTSTART:20130909T190000Z
DTEND:20130909T210000Z
X-MICROSOFT-CDO-ALLDAYEVENT:FALSE
SUMMARY:Cancer Survivor Support Group
DESCRIPTION:Creative Well-Being: The Magic of Mandalas | At times in life\, when we are experiencing great change\, we often circle up to tell our stories and discover individual and community meaning. The mandala is a sacred circle and offers us the means to center\, orient\, and grow in personal health. | Please join us for a time apart from daily routine as we "visit around the campfire? and create tangible symbols that may lead us to increased understanding of where we are in life\, and access information about our unconscious reservoirs of strength. | Presented by Nan Doolittle\, MA\, LMHC\, CEAP. New members are always welcome.
X-ALT-DESC;FMTTYPE=text/html:Creative Well-Being: The Magic of Mandalas | At times in life\, when we are experiencing great change\, we often circle up to tell our stories and discover individual and community meaning. The mandala is a sacred circle and offers us the means to center\, orient\, and grow in personal health. | Please join us for a time apart from daily routine as we &quot\;visit around the campfire? and create tangible symbols that may lead us to increased understanding of where we are in life\, and access information about our unconscious reservoirs of strength. | Presented by Nan Doolittle\, MA\, LMHC\, CEAP. New members are always welcome.
LOCATION:KVH Hospital\, Upstairs conference room
UID:e.40.10433
SEQUENCE:3
DTSTAMP:20260420T015452Z
URL:http://business.kittitascountychamber.com/events/details/cancer-survivor-support-group-09-09-2013-10433
END:VEVENT

END:VCALENDAR
