BEGIN:VCALENDAR
VERSION:2.0
PRODID:-//ChamberMaster//Event Calendar 2.0//EN
METHOD:PUBLISH
X-PUBLISHED-TTL:P3D
REFRESH-INTERVAL:P3D
CALSCALE:GREGORIAN
BEGIN:VEVENT
DTSTART:20140308T230000Z
DTEND:20140309T010000Z
X-MICROSOFT-CDO-ALLDAYEVENT:FALSE
SUMMARY:Cardboard Regatta
DESCRIPTION:Come support your local Kittitas Valley Memorial Pool by building a boat made of cardboard and duct tape! Lots of fun is in store as you propel your boat through the pool. Join us Saturday\, March 8th at 3:00pm! Open to all ages!\n\n\n\nPre-registration forms and a list of regulations are available at the pool.\n\n$10 for pre-registration. $15 at the door.
X-ALT-DESC;FMTTYPE=text/html:<span style="color: rgb(51\, 51\, 51)\; font-family: 'lucida grande'\, tahoma\, verdana\, arial\, sans-serif\; font-size: 12.727272033691406px\; line-height: 15.12727165222168px\;">Come support your local Kittitas Valley Memorial Pool by building a boat made of cardboard and duct tape! Lots of fun is in store as you propel your boat through the pool. Join us Saturday\, March 8th&nbsp\;at 3:00pm! Open to all ages!</span><br />\n<br style="color: rgb(51\, 51\, 51)\; font-family: 'lucida grande'\, tahoma\, verdana\, arial\, sans-serif\; font-size: 12.727272033691406px\; line-height: 15.12727165222168px\;" />\n<span style="color: rgb(51\, 51\, 51)\; font-family: 'lucida grande'\, tahoma\, verdana\, arial\, sans-serif\; font-size: 12.727272033691406px\; line-height: 15.12727165222168px\;">Pre-registration forms and a list of regulations are available at the pool.</span><br style="color: rgb(51\, 51\, 51)\; font-family: 'lucida grande'\, tahoma\, verdana\, arial\, sans-serif\; font-size: 12.727272033691406px\; line-height: 15.12727165222168px\;" />\n<span style="color: rgb(51\, 51\, 51)\; font-family: 'lucida grande'\, tahoma\, verdana\, arial\, sans-serif\; font-size: 12.727272033691406px\; line-height: 15.12727165222168px\;">$10 for pre-registration. $15 at the door.</span>
LOCATION:Kittitas Valley Memorial Pool 815 E 6th Ave. Ellensburg WA 98926
UID:e.40.10987
SEQUENCE:3
DTSTAMP:20260419T161510Z
URL:http://business.kittitascountychamber.com/events/details/cardboard-regatta-03-08-2014-10987
END:VEVENT

END:VCALENDAR
