BEGIN:VCALENDAR
VERSION:2.0
PRODID:-//ChamberMaster//Event Calendar 2.0//EN
METHOD:PUBLISH
X-PUBLISHED-TTL:P3D
REFRESH-INTERVAL:P3D
CALSCALE:GREGORIAN
BEGIN:VEVENT
DTSTART:20140222T200000Z
DTEND:20140222T200000Z
X-MICROSOFT-CDO-ALLDAYEVENT:FALSE
SUMMARY:Cascade Field & Stream Annual Banquet
DESCRIPTION:Annual banquet for Cascade Field and Stream
X-ALT-DESC;FMTTYPE=text/html:Annual banquet for Cascade Field and Stream
LOCATION:Centennial Center 719 E. 3rd Street Cle Elum\, Wa
UID:e.40.10873
SEQUENCE:3
DTSTAMP:20260419T175105Z
URL:http://business.kittitascountychamber.com/events/details/cascade-field-stream-annual-banquet-02-22-2014-10873
END:VEVENT

END:VCALENDAR
