BEGIN:VCALENDAR
VERSION:2.0
PRODID:-//ChamberMaster//Event Calendar 2.0//EN
METHOD:PUBLISH
X-PUBLISHED-TTL:P3D
REFRESH-INTERVAL:P3D
CALSCALE:GREGORIAN
BEGIN:VEVENT
DTSTART:20130523T000000Z
DTEND:20130523T040000Z
X-MICROSOFT-CDO-ALLDAYEVENT:FALSE
SUMMARY:Cattleman of the Year
DESCRIPTION:Kittitas County Cattlemen's Association and WSU Kittitas County Extension recognizing Don Akehurst's family business\, the Longhorn Cattle Company and Quarter Horse Ranch\, for their contribution to this community and to livestock agriculture over the last 50 years.
X-ALT-DESC;FMTTYPE=text/html:<span style="font-size: medium\;"><span style="font-family: calibri\;">Kittitas County Cattlemen&rsquo\;s Association and WSU Kittitas County Extension recognizing Don Akehurst&rsquo\;s family business\, the Longhorn Cattle Company and Quarter Horse Ranch\, for their contribution to this community and to livestock agriculture over the last 50 years. </span></span><br />\n
LOCATION:Akehurst home at 2151 Brick Mill Road. From Ellensburg\, go east on the Vantage Hwy\, go north on Wilson Creek Road\, then right on Brick Mill Road\, and there will be signs directing traffic to their house on the left shortly after getting on Brick Mill.
UID:e.40.10320
SEQUENCE:3
DTSTAMP:20260420T083418Z
URL:http://business.kittitascountychamber.com/events/details/cattleman-of-the-year-05-22-2013-10320
END:VEVENT

END:VCALENDAR
