BEGIN:VCALENDAR
VERSION:2.0
PRODID:-//ChamberMaster//Event Calendar 2.0//EN
METHOD:PUBLISH
X-PUBLISHED-TTL:P3D
REFRESH-INTERVAL:P3D
CALSCALE:GREGORIAN
BEGIN:VEVENT
DTSTART:20131207T030000Z
DTEND:20131207T030000Z
X-MICROSOFT-CDO-ALLDAYEVENT:FALSE
SUMMARY:Celtic Christmas Celebration
DESCRIPTION:Join "Santa" and attend the Celtic Christmas Celebration Featuring The Geoffrey Castle Band with special guests\n\n    Beth Quist - Cirque du Soleil Lead Vocalist\n\n    Don Scobie - Highland Piper\n\n    Mac MacDonald as Santa
X-ALT-DESC;FMTTYPE=text/html:Join &quot\;Santa&quot\; and attend the Celtic Christmas Celebration Featuring The Geoffrey Castle Band with special guests<br />\n&nbsp\;&nbsp\;&nbsp\;&nbsp\;Beth Quist - Cirque du Soleil Lead Vocalist<br />\n&nbsp\;&nbsp\;&nbsp\;&nbsp\;Don Scobie - Highland Piper<br />\n&nbsp\;&nbsp\;&nbsp\;&nbsp\;Mac MacDonald as Santa
LOCATION:CWU McIntyre Hall - Concert Hall
UID:e.40.10872
SEQUENCE:3
DTSTAMP:20260419T210733Z
URL:http://business.kittitascountychamber.com/events/details/celtic-christmas-celebration-12-06-2013-10872
END:VEVENT

END:VCALENDAR
