BEGIN:VCALENDAR
VERSION:2.0
PRODID:-//ChamberMaster//Event Calendar 2.0//EN
METHOD:PUBLISH
X-PUBLISHED-TTL:P3D
REFRESH-INTERVAL:P3D
CALSCALE:GREGORIAN
BEGIN:VEVENT
DTSTART:20130511T190000Z
DTEND:20130512T190000Z
X-MICROSOFT-CDO-ALLDAYEVENT:FALSE
SUMMARY:Central Washington Home Expo
DESCRIPTION:This will be a huge opportunity for area companies to showcase their products and services to thousands of Central Washington consumers\, and will assist in generating immediate sales prospects.
X-ALT-DESC;FMTTYPE=text/html:<span style="font-size: medium"><span style="font-family: timesnewromanpsmt\, serif">This will be a huge opportunity for area companies to showcase their products and services to thousands of Central Washington consumers\, and will assist in generating immediate sales&nbsp\;prospects.</span></span> 
LOCATION:Grant County Fair Grounds
UID:e.40.10169
SEQUENCE:3
DTSTAMP:20260422T090120Z
URL:http://business.kittitascountychamber.com/events/details/central-washington-home-expo-05-11-2013-10169
END:VEVENT

END:VCALENDAR
