BEGIN:VCALENDAR
VERSION:2.0
PRODID:-//ChamberMaster//Event Calendar 2.0//EN
METHOD:PUBLISH
X-PUBLISHED-TTL:P3D
REFRESH-INTERVAL:P3D
CALSCALE:GREGORIAN
BEGIN:VEVENT
DTSTART;VALUE=DATE:20130427
DTEND;VALUE=DATE:20130429
TRANSP:TRANSPARENT
X-MICROSOFT-CDO-ALLDAYEVENT:TRUE
SUMMARY:Central Washington Quilt Show
DESCRIPTION:Central Washington Quilt Show will be held at the Kittitas Valley Event Center at the fairgrounds Saturday and Sunday April 27th and 28th. Hours are 9:00 am -6:00 pm Saturday and 9:00 am - 5:00 pm Sunday.
X-ALT-DESC;FMTTYPE=text/html:Central Washington Quilt Show will be held at the Kittitas Valley Event Center at the fairgrounds Saturday and Sunday April 27th and 28th. Hours are 9:00 am -6:00 pm Saturday and 9:00 am - 5:00 pm Sunday.
LOCATION:Kittitas Valley Event Center
UID:e.40.9275
SEQUENCE:3
DTSTAMP:20260420T101422Z
URL:http://business.kittitascountychamber.com/events/details/central-washington-quilt-show-04-27-2013-9275
END:VEVENT

END:VCALENDAR
