BEGIN:VCALENDAR
VERSION:2.0
PRODID:-//ChamberMaster//Event Calendar 2.0//EN
METHOD:PUBLISH
X-PUBLISHED-TTL:P3D
REFRESH-INTERVAL:P3D
CALSCALE:GREGORIAN
BEGIN:VEVENT
DTSTART:20140424T020000Z
DTEND:20140424T040000Z
X-MICROSOFT-CDO-ALLDAYEVENT:FALSE
SUMMARY:Cesar E. Chavez Remembering & Celebrating Week: ?Cesar?s Last Fast? Film Screeni
DESCRIPTION:Wednesday\, April 23 at 7 p.m. Black Hall 152 Free United Farm Workers co-founder Cesar Chavez dedicated his life to bringing equality and justice to farm workers. In honor of Cesar E. Chavez Remembering & Celebrating week\, there will be a free screening of the film ?Cesar?s Last Fast? Wednesday\, April 23 at 7 p.m. in Black Hall 152. The documentary about Chavez?s 26-day fast in 1988 features never before seen footage. Cesar?s struggle is a powerful message that encourages everyone to continue the fight against the inequalities still seen today. For more information\, contact the Center for Leadership and Community Engagement (CLCE) at 509-963-1850 or clce@cwu.edu. This event is sponsored by Student Success\, CLCE\, University Advancement\, Campus Life\, 88.1 The Burg\, Latino/a Latin American Studies\, CDSJ\, CAMP\, Museum of Culture & Environment\, African and Black Studies\, and Office of Admissions.
X-ALT-DESC;FMTTYPE=text/html:Wednesday\, April 23 at 7 p.m. Black Hall 152 Free United Farm Workers co-founder Cesar Chavez dedicated his life to bringing equality and justice to farm workers. In honor of Cesar E. Chavez Remembering &amp\; Celebrating week\, there will be a free screening of the film ?Cesar?s Last Fast? Wednesday\, April 23 at 7 p.m. in Black Hall 152. The documentary about Chavez?s 26-day fast in 1988 features never before seen footage. Cesar?s struggle is a powerful message that encourages everyone to continue the fight against the inequalities still seen today. For more information\, contact the Center for Leadership and Community Engagement (CLCE) at 509-963-1850 or clce@cwu.edu. This event is sponsored by Student Success\, CLCE\, University Advancement\, Campus Life\, 88.1 The Burg\, Latino/a Latin American Studies\, CDSJ\, CAMP\, Museum of Culture &amp\; Environment\, African and Black Studies\, and Office of Admissions.
LOCATION:Black Hall 152
UID:e.40.11358
SEQUENCE:3
DTSTAMP:20260419T143803Z
URL:http://business.kittitascountychamber.com/events/details/cesar-e-chavez-remembering-celebrating-week-cesar-s-last-fast-film-screeni-04-23-2014-11358
END:VEVENT

END:VCALENDAR
