BEGIN:VCALENDAR
VERSION:2.0
PRODID:-//ChamberMaster//Event Calendar 2.0//EN
METHOD:PUBLISH
X-PUBLISHED-TTL:P3D
REFRESH-INTERVAL:P3D
CALSCALE:GREGORIAN
BEGIN:VEVENT
DTSTART:20140422T190000Z
DTEND:20140422T210000Z
X-MICROSOFT-CDO-ALLDAYEVENT:FALSE
SUMMARY:Cesar E. Chavez Remembering & Celebrating Week: CWU Celebrates Cesar Chavez?s Bi
DESCRIPTION:Tuesday\, April 22 SURC Pit Noon ? 2 p.m. FREE In honor of Cesar E. Chavez Remembering & Celebrating week\, come help kick off a week of celebrations at CWU dedicated to honoring the life and accomplishments of Cesar E. Chavez Tuesday\, April 22 from noon to 2 p.m. in the Student Union and Recreation Center (SURC) Pit. This birthday celebration is free\, open to everyone and will feature music\, food and lots of cake! An American farm worker\, labor leader and civil rights activist\, Chavez co-founded the United Farm Workers organization to improve treatment\, pay and working conditions for farm workers. Join in on the fun and celebrate that life of a man whose accomplishments changed the American labor movement. For more information\, contact the Center for Leadership and Community Engagement (CLCE) at 509-963-1850 or clce@cwu.edu. This event is sponsored by Student Success\, CLCE\, University Advancement\, Campus Life\, 88.1 The Burg\, Latino/a Latin American Studies\, CDSJ\, CAMP\, Museum of Culture & Environment\, African and Black Studies\, and Office of Admissions.
X-ALT-DESC;FMTTYPE=text/html:Tuesday\, April 22 SURC Pit Noon ? 2 p.m. FREE In honor of Cesar E. Chavez Remembering &amp\; Celebrating week\, come help kick off a week of celebrations at CWU dedicated to honoring the life and accomplishments of Cesar E. Chavez Tuesday\, April 22 from noon to 2 p.m. in the Student Union and Recreation Center (SURC) Pit. This birthday celebration is free\, open to everyone and will feature music\, food and lots of cake! An American farm worker\, labor leader and civil rights activist\, Chavez co-founded the United Farm Workers organization to improve treatment\, pay and working conditions for farm workers. Join in on the fun and celebrate that life of a man whose accomplishments changed the American labor movement. For more information\, contact the Center for Leadership and Community Engagement (CLCE) at 509-963-1850 or clce@cwu.edu. This event is sponsored by Student Success\, CLCE\, University Advancement\, Campus Life\, 88.1 The Burg\, Latino/a Latin American Studies\, CDSJ\, CAMP\, Museum of Culture &amp\; Environment\, African and Black Studies\, and Office of Admissions.
LOCATION:SURC Pit
UID:e.40.11359
SEQUENCE:3
DTSTAMP:20260419T143617Z
URL:http://business.kittitascountychamber.com/events/details/cesar-e-chavez-remembering-celebrating-week-cwu-celebrates-cesar-chavez-s-bi-04-22-2014-11359
END:VEVENT

END:VCALENDAR
