BEGIN:VCALENDAR
VERSION:2.0
PRODID:-//ChamberMaster//Event Calendar 2.0//EN
METHOD:PUBLISH
X-PUBLISHED-TTL:P3D
REFRESH-INTERVAL:P3D
CALSCALE:GREGORIAN
BEGIN:VEVENT
DTSTART:20140425T020000Z
DTEND:20140425T040000Z
X-MICROSOFT-CDO-ALLDAYEVENT:FALSE
SUMMARY:Cesar E. Chavez Remembering & Celebrating Week: Jose Iniguez Musical Performance
DESCRIPTION:Thursday\, April 24 at 7 p.m. Music Building FREE Join the CWU Center for Leadership and Community Engagement Thursday\, April 24 for a special musical performance by opera singer and CWU alum Jose Iniguez. In honor of Cesar E. Chavez Remembering & Celebrating week\, Iniguez will take the stage at the Jerilyn S. McIntyre Music Building at 7 p.m. where he will sing opera and Mexican mariachi music. He will be accompanied by classical pianist Jeremy Neufeld and Mariachi Guzman de Pasco. This event is free and open to the public. For more information\, contact the Center for Leadership and Community Engagement (CLCE) at 509-963-1850 or clce@cwu.edu. This event is sponsored by Student Success\, CLCE\, University Advancement\, Campus Life\, 88.1 The Burg\, Latino/a Latin American Studies\, CDSJ\, Museum of Culture & Environment\, African and Black Studies and Office of Admissions.
X-ALT-DESC;FMTTYPE=text/html:Thursday\, April 24 at 7 p.m. Music Building FREE Join the CWU Center for Leadership and Community Engagement Thursday\, April 24 for a special musical performance by opera singer and CWU alum Jose Iniguez. In honor of Cesar E. Chavez Remembering &amp\; Celebrating week\, Iniguez will take the stage at the Jerilyn S. McIntyre Music Building at 7 p.m. where he will sing opera and Mexican mariachi music. He will be accompanied by classical pianist Jeremy Neufeld and Mariachi Guzman de Pasco. This event is free and open to the public. For more information\, contact the Center for Leadership and Community Engagement (CLCE) at 509-963-1850 or clce@cwu.edu. This event is sponsored by Student Success\, CLCE\, University Advancement\, Campus Life\, 88.1 The Burg\, Latino/a Latin American Studies\, CDSJ\, Museum of Culture &amp\; Environment\, African and Black Studies and Office of Admissions.
LOCATION:Jerilyn S. McIntyre Music Building
UID:e.40.11357
SEQUENCE:3
DTSTAMP:20260419T143557Z
URL:http://business.kittitascountychamber.com/events/details/cesar-e-chavez-remembering-celebrating-week-jose-iniguez-musical-performance-04-24-2014-11357
END:VEVENT

END:VCALENDAR
