BEGIN:VCALENDAR
VERSION:2.0
PRODID:-//ChamberMaster//Event Calendar 2.0//EN
METHOD:PUBLISH
X-PUBLISHED-TTL:P3D
REFRESH-INTERVAL:P3D
CALSCALE:GREGORIAN
BEGIN:VEVENT
DTSTART:20121116T010000Z
DTEND:20121116T030000Z
X-MICROSOFT-CDO-ALLDAYEVENT:FALSE
SUMMARY:Chamber Business After Hours
DESCRIPTION:November's Business After Hours is hosted by HannaMarchel Salon.\n\n	HannaMarchel Salon is located at 500 N. Ruby Street in Ellensburg.\n\n	Come network with other Chamber members in a relaxed and social atmosphere.
X-ALT-DESC;FMTTYPE=text/html:<p>\n	November&#39\;s Business After Hours is hosted by HannaMarchel Salon.</p>\n<p>\n	HannaMarchel Salon is located at 500 N. Ruby Street in Ellensburg.</p>\n<p>\n	Come network with other Chamber members in a relaxed and social atmosphere.</p>\n
LOCATION:HannaMarchel Salon 500 N. Ruby St. Ellensburg\, WA
UID:e.40.8447
SEQUENCE:3
DTSTAMP:20260420T202024Z
URL:http://business.kittitascountychamber.com/events/details/chamber-business-after-hours-11-15-2012-8447
END:VEVENT

END:VCALENDAR
