BEGIN:VCALENDAR
VERSION:2.0
PRODID:-//ChamberMaster//Event Calendar 2.0//EN
METHOD:PUBLISH
X-PUBLISHED-TTL:P3D
REFRESH-INTERVAL:P3D
CALSCALE:GREGORIAN
BEGIN:VEVENT
DTSTART:20130717T200000Z
DTEND:20130717T220000Z
X-MICROSOFT-CDO-ALLDAYEVENT:FALSE
SUMMARY:Chamber Ice Cream Social
DESCRIPTION:Join us for Membership Appreciation Day!\n\nEllensburg Rodeo Royal Court will be here to kick off our event !\n\nCome to the Kittitas County Chamber of Commerce (Ellensburg Office) on July 17th for an Ice Cream Social! \n\n1:00-3:00pm
X-ALT-DESC;FMTTYPE=text/html:Join us for Membership Appreciation Day!<br />\nEllensburg Rodeo Royal Court will be here to kick off our event !<br />\nCome to the Kittitas County Chamber of Commerce (Ellensburg Office) on July 17th&nbsp\;for an Ice Cream Social!&nbsp\;<br />\n1:00-3:00pm
LOCATION:609 N Main St. Ellensburg\, WA 98926
UID:e.40.10406
SEQUENCE:3
DTSTAMP:20260420T050839Z
URL:http://business.kittitascountychamber.com/events/details/chamber-ice-cream-social-07-17-2013-10406
END:VEVENT

END:VCALENDAR
