BEGIN:VCALENDAR
VERSION:2.0
PRODID:-//ChamberMaster//Event Calendar 2.0//EN
METHOD:PUBLISH
X-PUBLISHED-TTL:P3D
REFRESH-INTERVAL:P3D
CALSCALE:GREGORIAN
BEGIN:VEVENT
DTSTART:20190726T000000Z
DTEND:20190726T030000Z
X-MICROSOFT-CDO-ALLDAYEVENT:FALSE
SUMMARY:Chinese Buffet
DESCRIPTION:Chinese Buffet\n\n$12\n\nFried Rice\n\nPot Stickers\n\nChicken Chow Mein\n\nHot Sour Soup\n\nOriental Chicken Salad \n\nChef Ron's Special\n\n\n\nJoker Poker Drawing at 6:30
X-ALT-DESC;FMTTYPE=text/html:Chinese Buffet<br />\n$12<br />\nFried Rice<br />\nPot Stickers<br />\nChicken Chow Mein<br />\nHot Sour Soup<br />\nOriental Chicken Salad&nbsp\;<br />\nChef Ron&#39\;s Special<br />\n<br />\nJoker Poker Drawing at 6:30
LOCATION:Cle Elum Eagles
UID:e.40.25888
SEQUENCE:3
DTSTAMP:20260421T131555Z
URL:http://business.kittitascountychamber.com/events/details/chinese-buffet-25888
END:VEVENT

END:VCALENDAR
