BEGIN:VCALENDAR
VERSION:2.0
PRODID:-//ChamberMaster//Event Calendar 2.0//EN
METHOD:PUBLISH
X-PUBLISHED-TTL:P3D
REFRESH-INTERVAL:P3D
CALSCALE:GREGORIAN
BEGIN:VEVENT
DTSTART;VALUE=DATE:20131207
DTEND;VALUE=DATE:20131208
TRANSP:TRANSPARENT
X-MICROSOFT-CDO-ALLDAYEVENT:TRUE
SUMMARY:Christmas In Cle ELum
DESCRIPTION:Christmas In Cle Elum is a full day of fun and entertainment
X-ALT-DESC;FMTTYPE=text/html:Christmas In Cle Elum is a full day of fun and entertainment
LOCATION:Various locations
UID:e.40.10871
SEQUENCE:3
DTSTAMP:20260419T211008Z
URL:http://business.kittitascountychamber.com/events/details/christmas-in-cle-elum-12-07-2013-10871
END:VEVENT

END:VCALENDAR
