BEGIN:VCALENDAR
VERSION:2.0
PRODID:-//ChamberMaster//Event Calendar 2.0//EN
METHOD:PUBLISH
X-PUBLISHED-TTL:P3D
REFRESH-INTERVAL:P3D
CALSCALE:GREGORIAN
BEGIN:VEVENT
DTSTART;VALUE=DATE:20131130
DTEND;VALUE=DATE:20131225
TRANSP:TRANSPARENT
X-MICROSOFT-CDO-ALLDAYEVENT:TRUE
SUMMARY:Christmas Tree Sales at Exit 115
DESCRIPTION:Christmas Trees available at Kittitas Exit 115!\n\n\n\nBeginning weekend after Thanksgiving and extending thru Christmas Eve - unless sold out!\n\n\n\nSupports Kittitas Class of 2014 Senior Trip!
X-ALT-DESC;FMTTYPE=text/html:Christmas Trees available at Kittitas Exit 115!<br />\n<br />\nBeginning weekend after Thanksgiving and extending thru Christmas Eve - unless sold out!<br />\n<br />\nSupports Kittitas&nbsp\;Class of 2014 Senior Trip!<br />\n
LOCATION:Shell Station at Exit 115 in Kittitas
UID:e.40.10865
SEQUENCE:3
DTSTAMP:20260419T210410Z
URL:http://business.kittitascountychamber.com/events/details/christmas-tree-sales-at-exit-115-11-30-2013-10865
END:VEVENT

END:VCALENDAR
