BEGIN:VCALENDAR
VERSION:2.0
PRODID:-//ChamberMaster//Event Calendar 2.0//EN
METHOD:PUBLISH
X-PUBLISHED-TTL:P3D
REFRESH-INTERVAL:P3D
CALSCALE:GREGORIAN
BEGIN:VEVENT
DTSTART;VALUE=DATE:20140121
DTEND;VALUE=DATE:20140125
TRANSP:TRANSPARENT
X-MICROSOFT-CDO-ALLDAYEVENT:TRUE
SUMMARY:Civil Rights Display at CWU
DESCRIPTION:In honor of Martin Luther King Day\, the Center for Diversity and Social Justice will host a Civil Rights Display Tuesday\, Jan. 21 through Friday\, Jan. 24 all day long in the Student Union and Recreation Center (SURC). The Civil Rights Display will recreate the 1950-1968 Civil Rights years through a life size exhibit demonstrated through pictures\, personal stories and video footage of individuals that fought against racial segregation in America. There will be several exhibits of segregated lunch counters\, fountains\, bus terminals and schools that will allow the community to get a better understanding of the ?Separate but Equal? laws during the Civil Rights years.  For more information contact Michelle Cyrus at CyrusM@cwu.edu or 509-963-2128.
X-ALT-DESC;FMTTYPE=text/html:In honor of Martin Luther King Day\, the Center for Diversity and Social Justice will host a Civil Rights Display Tuesday\, Jan. 21 through Friday\, Jan. 24 all day long in the Student Union and Recreation Center (SURC). The Civil Rights Display will recreate the 1950-1968 Civil Rights years through a life size exhibit demonstrated through pictures\, personal stories and video footage of individuals that fought against racial segregation in America. There will be several exhibits of segregated lunch counters\, fountains\, bus terminals and schools that will allow the community to get a better understanding of the ?Separate but Equal? laws during the Civil Rights years.&nbsp\; For more information contact Michelle Cyrus at CyrusM@cwu.edu or 509-963-2128. 
LOCATION:CWU Student Union and Recreation Center (SURC).
UID:e.40.10924
SEQUENCE:3
DTSTAMP:20260419T192136Z
URL:http://business.kittitascountychamber.com/events/details/civil-rights-display-at-cwu-01-21-2014-10924
END:VEVENT

END:VCALENDAR
