BEGIN:VCALENDAR
VERSION:2.0
PRODID:-//ChamberMaster//Event Calendar 2.0//EN
METHOD:PUBLISH
X-PUBLISHED-TTL:P3D
REFRESH-INTERVAL:P3D
CALSCALE:GREGORIAN
BEGIN:VEVENT
DTSTART:20140221T170000Z
DTEND:20140221T180000Z
X-MICROSOFT-CDO-ALLDAYEVENT:FALSE
SUMMARY:Cle Elum Coffee Club
DESCRIPTION:Join us for Cle Elum Coffee Club\, brought to you by the Kittitas County Chamber of Commerce.\n\nThe Cle Elum Coffee Club meets the third Friday of each month \, from 9 -10 am. Coffee Club is an informal networking opportunity to share your business with others in the community\, it is free and open to any business in the county.\n\nFor more information about the Cle Elum Coffee Club call\n\n509-925-2002\n\nEnjoy Coffee from Pioneer Coffee\, Treats from Stella's and don't forget to bring your business cards for the business card raffle.
X-ALT-DESC;FMTTYPE=text/html:<span style="font-size: medium\;">Join us for&nbsp\;Cle Elum&nbsp\;Coffee Club\, brought to you by the Kittitas County Chamber of Commerce.<br />\nThe Cle Elum Coffee Club meets the&nbsp\;third Friday of each month \, from 9 -10 am. Coffee Club is an informal networking opportunity to share your business with others in the community\, it is free and open to any business in the county.<br />\nFor more information about the Cle Elum <span style="font-size: 16px\;">Coffee Club&nbsp\;call<br />\n509-925-2002<br />\nEnjoy Coffee from Pioneer Coffee\, Treats from Stella&#39\;s and don&#39\;t forget to bring your business cards for the business card raffle.</span></span>
LOCATION:Cle Elum Chamber & VIC 312 W. 1st Street Cle Elum
UID:e.40.10944
SEQUENCE:3
DTSTAMP:20260419T175246Z
URL:http://business.kittitascountychamber.com/events/details/cle-elum-coffee-club-02-21-2014-10944
END:VEVENT

END:VCALENDAR
