BEGIN:VCALENDAR
VERSION:2.0
PRODID:-//ChamberMaster//Event Calendar 2.0//EN
METHOD:PUBLISH
X-PUBLISHED-TTL:P3D
REFRESH-INTERVAL:P3D
CALSCALE:GREGORIAN
BEGIN:VEVENT
DTSTART:20140418T160000Z
DTEND:20140418T170000Z
X-MICROSOFT-CDO-ALLDAYEVENT:FALSE
SUMMARY:Cle Elum Coffee Club
DESCRIPTION:Join us for Cle Elum Coffee Club\, brought to you by the Kittitas County Chamber of Commerce.\n\nThe Cle Elum Coffee Club meets the third Friday of each month \, from 9 -10 am. Coffee Club is an informal networking opportunity to share your business with others in the community\, it is free and open to any business in the county.\n\nFor more information about the Cle Elum Coffee Club call\n\n509-925-2002\n\nApril Coffee Club Hosted & Sponsored by Troutwater Fly Shop Cle Elum\n\nEnjoy Coffee\, Treats and don't forget to bring your business cards for the door prize raffle.
X-ALT-DESC;FMTTYPE=text/html:<span style="font-size: medium\;">Join us for&nbsp\;Cle Elum&nbsp\;Coffee Club\, brought to you by the Kittitas County Chamber of Commerce.<br />\nThe Cle Elum Coffee Club meets the&nbsp\;third Friday of each month \, from 9 -10 am. Coffee Club is an informal networking opportunity to share your business with others in the community\, it is free and open to any business in the county.<br />\nFor more information about the Cle Elum <span style="font-size: 16px\;">Coffee Club&nbsp\;call<br />\n509-925-2002<br />\n<em><strong><span style="color: rgb(0\, 0\, 255)\;">April Coffee Club Hosted &amp\; Sponsored by Troutwater Fly Shop Cle Elum</span></strong></em><br />\nEnjoy Coffee\, Treats and don&#39\;t forget to bring your business cards for the door prize raffle.</span></span>
LOCATION:Troutwater Fly Shop 113 E. 1st St Cle Elum
UID:e.40.11228
SEQUENCE:3
DTSTAMP:20260419T144138Z
URL:http://business.kittitascountychamber.com/events/details/cle-elum-coffee-club-04-18-2014-11228
END:VEVENT

END:VCALENDAR
