BEGIN:VCALENDAR
VERSION:2.0
PRODID:-//ChamberMaster//Event Calendar 2.0//EN
METHOD:PUBLISH
X-PUBLISHED-TTL:P3D
REFRESH-INTERVAL:P3D
CALSCALE:GREGORIAN
BEGIN:VEVENT
DTSTART:20130526T000000Z
DTEND:20130526T020000Z
X-MICROSOFT-CDO-ALLDAYEVENT:FALSE
SUMMARY:Cle Elum Eagles #649 Littl Bill & Blue Notes
DESCRIPTION:Join the Cle Elum Eagles #649 for an evening of fun with Little Bill & the Blue Notes\, dinner will be served $10.00 pre sale and $12.00 at the door = Salad Bar\, with Polish\, Buns & Desserts......there will also be a raffle foe the Scholarship Fund.....\n\n\n\nLittle Bill & the Blue Notes Live at 8:pm there is a $5.00 cover......This event is for Members & Guests Only
X-ALT-DESC;FMTTYPE=text/html:Join the Cle Elum Eagles #649 for an evening of fun with Little Bill &amp\; the Blue Notes\, dinner will be served $10.00 pre sale and $12.00 at the door = Salad Bar\, with Polish\, Buns &amp\; Desserts......there will also be a raffle foe the Scholarship Fund.....<br />\n<br />\nLittle Bill &amp\; the Blue Notes Live at 8:pm there is a $5.00 cover......This event is for Members &amp\; Guests Only
LOCATION:Cle Elum Eagles #649
UID:e.40.10313
SEQUENCE:3
DTSTAMP:20260420T083216Z
URL:http://business.kittitascountychamber.com/events/details/cle-elum-eagles-649-littl-bill-blue-notes-05-25-2013-10313
END:VEVENT

END:VCALENDAR
