BEGIN:VCALENDAR
VERSION:2.0
PRODID:-//ChamberMaster//Event Calendar 2.0//EN
METHOD:PUBLISH
X-PUBLISHED-TTL:P3D
REFRESH-INTERVAL:P3D
CALSCALE:GREGORIAN
BEGIN:VEVENT
DTSTART:20131020T000000Z
DTEND:20131020T040000Z
X-MICROSOFT-CDO-ALLDAYEVENT:FALSE
SUMMARY:Clymer Rendezvous 2013
DESCRIPTION:The Clymer Museum of Art Annual Fundraising Rendezvous is Saturday October 19\,2013 and will be held at Kelleher Motor on 6th and Pearl.  This event is the Clymer's major fundraiser.....come and enjoy great food\, evening of fun and the opportunity to  bid on many wonderful items and support the Clymer
X-ALT-DESC;FMTTYPE=text/html:The Clymer Museum of Art Annual Fundraising <em>Rendezvous</em> is Saturday October 19\,2013 and will be held at Kelleher Motor on 6th and Pearl.&nbsp\; This event is the Clymer&#39\;s major fundraiser.....come and enjoy great food\, evening of fun and the&nbsp\;opportunity to &nbsp\;bid on many wonderful items and support the Clymer
LOCATION:Kelleher Motor 6th Avenue and Pearl Street
UID:e.40.10728
SEQUENCE:3
DTSTAMP:20260420T002856Z
URL:http://business.kittitascountychamber.com/events/details/clymer-rendezvous-2013-10-19-2013-10728
END:VEVENT

END:VCALENDAR
