BEGIN:VCALENDAR
VERSION:2.0
PRODID:-//ChamberMaster//Event Calendar 2.0//EN
METHOD:PUBLISH
X-PUBLISHED-TTL:P3D
REFRESH-INTERVAL:P3D
CALSCALE:GREGORIAN
BEGIN:VEVENT
DTSTART:20130506T230000Z
DTEND:20130507T010000Z
X-MICROSOFT-CDO-ALLDAYEVENT:FALSE
SUMMARY:College Civics Week: Glenn Greenwald
DESCRIPTION:Political columnist and commentator Glenn Greenwald will be the keynote speaker at this year?s First Amendment Festival Monday\, May 6 at 4 p.m. in the SURC Theatre. This event is free and open to the public. Greenwald is currently writing for ?The Guardian\,? where his columns frequently alert readers to infringements on their First Amendment freedoms. Greenwald is the author of three ?New York Times? bestselling books\, most recently\, ?Liberty and Justice for Some?. He was also awarded the I.F. Stone Award for his investigative work on the arrest and oppressive detention of Bradley Manning\, a United States Army soldier who was arrested in May 2010 in Iraq on suspicion of having passed classified material to the website WikiLeaks. For more information contact Cynthia Mitchell at mitchelc@cwu.edu.
X-ALT-DESC;FMTTYPE=text/html:Political columnist and commentator Glenn Greenwald will be the keynote speaker at this year?s First Amendment Festival Monday\, May 6 at 4 p.m. in the SURC Theatre. This event is free and open to the public. Greenwald is currently writing for ?The Guardian\,? where his columns frequently alert readers to infringements on their First Amendment freedoms. Greenwald is the author of three ?New York Times? bestselling books\, most recently\, ?Liberty and Justice for Some?. He was also awarded the I.F. Stone Award for his investigative work on the arrest and oppressive detention of Bradley Manning\, a United States Army soldier who was arrested in May 2010 in Iraq on suspicion of having passed classified material to the website WikiLeaks. For more information contact Cynthia Mitchell at mitchelc@cwu.edu.
LOCATION:CWU Student Union and Recreation Center (SURC) Theatre
UID:e.40.10294
SEQUENCE:3
DTSTAMP:20260420T084756Z
URL:http://business.kittitascountychamber.com/events/details/college-civics-week-glenn-greenwald-05-06-2013-10294
END:VEVENT

END:VCALENDAR
