BEGIN:VCALENDAR
VERSION:2.0
PRODID:-//ChamberMaster//Event Calendar 2.0//EN
METHOD:PUBLISH
X-PUBLISHED-TTL:P3D
REFRESH-INTERVAL:P3D
CALSCALE:GREGORIAN
BEGIN:VEVENT
DTSTART:20130508T020000Z
DTEND:20130508T030000Z
X-MICROSOFT-CDO-ALLDAYEVENT:FALSE
SUMMARY:Coming of Age Series
DESCRIPTION:First in a series of free seminars for caretakers of aging spouses\, parents\, or loved ones. Week 1: Life with Arthritis - Speaker Dr. Gary Bos\, MD\, of KVH Orthopedics.
X-ALT-DESC;FMTTYPE=text/html:First in a series of free seminars for caretakers of aging spouses\, parents\, or loved ones. Week 1: Life with Arthritis - Speaker Dr. Gary Bos\, MD\, of KVH Orthopedics. 
LOCATION:Dry Creek Retirement and Assisted Living Community\, 818 E Mountain View Ave\, Ellensburg
UID:e.40.10251
SEQUENCE:3
DTSTAMP:20260420T083400Z
URL:http://business.kittitascountychamber.com/events/details/coming-of-age-series-05-07-2013-10251
END:VEVENT

END:VCALENDAR
