BEGIN:VCALENDAR
VERSION:2.0
PRODID:-//ChamberMaster//Event Calendar 2.0//EN
METHOD:PUBLISH
X-PUBLISHED-TTL:P3D
REFRESH-INTERVAL:P3D
CALSCALE:GREGORIAN
BEGIN:VEVENT
DTSTART:20130515T020000Z
DTEND:20130515T030000Z
X-MICROSOFT-CDO-ALLDAYEVENT:FALSE
SUMMARY:Coming of Age Series
DESCRIPTION:Second in a series of free seminars for caretakers of aging spouses\, parents\, or loved ones. Week 2: Midlife is Your Time to Shine\, Speaker Nancy Osier-Wilbanks (Life Coach).
X-ALT-DESC;FMTTYPE=text/html:Second in a series of free seminars for caretakers of aging spouses\, parents\, or loved ones. Week 2: Midlife is Your Time to Shine\, Speaker Nancy Osier-Wilbanks (Life Coach).
LOCATION:Dry Creek Retirement and Assisted Living Community\, 818 E Mountain View Ave\, Ellensburg
UID:e.40.10253
SEQUENCE:3
DTSTAMP:20260420T083418Z
URL:http://business.kittitascountychamber.com/events/details/coming-of-age-series-05-14-2013-10253
END:VEVENT

END:VCALENDAR
