BEGIN:VCALENDAR
VERSION:2.0
PRODID:-//ChamberMaster//Event Calendar 2.0//EN
METHOD:PUBLISH
X-PUBLISHED-TTL:P3D
REFRESH-INTERVAL:P3D
CALSCALE:GREGORIAN
BEGIN:VEVENT
DTSTART:20130522T020000Z
DTEND:20130522T030000Z
X-MICROSOFT-CDO-ALLDAYEVENT:FALSE
SUMMARY:Coming of Age Series
DESCRIPTION:Third and last in a series of free seminars for caretakers of aging spouses\, parents\, or loved ones. Week 3: Ask the Pharmacist\, Speaker Clint Knight\, PharmD
X-ALT-DESC;FMTTYPE=text/html:Third and last in a series of free seminars for caretakers of aging spouses\, parents\, or loved ones. Week 3: Ask the Pharmacist\, Speaker Clint Knight\, PharmD
LOCATION:Dry Creek Retirement and Assisted Living Community\, 818 E Mountain View Ave\, Ellensburg
UID:e.40.10254
SEQUENCE:3
DTSTAMP:20260420T083420Z
URL:http://business.kittitascountychamber.com/events/details/coming-of-age-series-05-21-2013-10254
END:VEVENT

END:VCALENDAR
