BEGIN:VCALENDAR
VERSION:2.0
PRODID:-//ChamberMaster//Event Calendar 2.0//EN
METHOD:PUBLISH
X-PUBLISHED-TTL:P3D
REFRESH-INTERVAL:P3D
CALSCALE:GREGORIAN
BEGIN:VEVENT
DTSTART:20131116T030000Z
DTEND:20131116T050000Z
X-MICROSOFT-CDO-ALLDAYEVENT:FALSE
SUMMARY:Community Adult Spelling Bee
DESCRIPTION:The Ellensburg Public Library presents its 5th Annual Ellensburg Adult Spelling Bee! This is a fundraiser sponsored by the Friends of the Library that helps support many library programs. Teams of 3 people and paper and pencil are allowed! Registration forms available in the library. For more information\, please contact Josephine at (509) 962-7218 or camarilloj@ci.ellensburg.wa.us Don't miss the BEE!!!!!
X-ALT-DESC;FMTTYPE=text/html:The Ellensburg Public Library presents its 5th Annual Ellensburg Adult Spelling Bee! This is a fundraiser sponsored by the Friends of the Library that helps support many library programs. Teams of 3 people and paper and pencil are allowed! Registration forms available in the library. For more information\, please contact Josephine at (509) 962-7218 or camarilloj@ci.ellensburg.wa.us Don&#39\;t miss the BEE!!!!! 
LOCATION:Hal Holmes Center
UID:e.40.10822
SEQUENCE:3
DTSTAMP:20260419T225230Z
URL:http://business.kittitascountychamber.com/events/details/community-adult-spelling-bee-11-15-2013-10822
END:VEVENT

END:VCALENDAR
