BEGIN:VCALENDAR
VERSION:2.0
PRODID:-//ChamberMaster//Event Calendar 2.0//EN
METHOD:PUBLISH
X-PUBLISHED-TTL:P3D
REFRESH-INTERVAL:P3D
CALSCALE:GREGORIAN
BEGIN:VEVENT
DTSTART:20131208T210000Z
DTEND:20131208T230000Z
X-MICROSOFT-CDO-ALLDAYEVENT:FALSE
SUMMARY:Community Christmas Dinner at the Grange
DESCRIPTION:Come out to the Swauk Teanaway Grange for our annual Community Christmas Dinner at 1 PM on Sunday\, December 8. Bring a side dish to add to our Roast Turkey & Gravy\, Mashed Potatoes\, and Stuffing. Christmas Carols by Karen Ingalls and the Mountain Voices Choir.
X-ALT-DESC;FMTTYPE=text/html:Come out to the Swauk Teanaway Grange for our annual Community Christmas Dinner at 1 PM on Sunday\, December 8. Bring a side dish to add to our Roast Turkey &amp\; Gravy\, Mashed Potatoes\, and Stuffing. Christmas Carols by Karen Ingalls and the Mountain Voices Choir. 
LOCATION:Swauk-Teanaway Grange\, 1361 Ballard Hill Rd\, Cle Elum\, WA 98922
UID:e.40.10779
SEQUENCE:3
DTSTAMP:20260419T211034Z
URL:http://business.kittitascountychamber.com/events/details/community-christmas-dinner-at-the-grange-12-08-2013-10779
END:VEVENT

END:VCALENDAR
