BEGIN:VCALENDAR
VERSION:2.0
PRODID:-//ChamberMaster//Event Calendar 2.0//EN
METHOD:PUBLISH
X-PUBLISHED-TTL:P3D
REFRESH-INTERVAL:P3D
CALSCALE:GREGORIAN
BEGIN:VEVENT
DTSTART:20131010T160000Z
DTEND:20131010T230000Z
X-MICROSOFT-CDO-ALLDAYEVENT:FALSE
SUMMARY:Community Connect Day
DESCRIPTION:Winter is coming! Are you and your family prepared? If not\, we are here to help! FREE! Haircuts\, health check ups\, immunizations\, dental care\, blankets\, winter gear\, 2 meals!
X-ALT-DESC;FMTTYPE=text/html:Winter is coming! Are you and your family prepared? If not\, we are here to help! FREE! Haircuts\, health check ups\, immunizations\, dental care\, blankets\, winter gear\, 2 meals! 
LOCATION:FISH Food Bank
UID:e.40.10686
SEQUENCE:3
DTSTAMP:20260420T002949Z
URL:http://business.kittitascountychamber.com/events/details/community-connect-day-10-10-2013-10686
END:VEVENT

END:VCALENDAR
