BEGIN:VCALENDAR
VERSION:2.0
PRODID:-//ChamberMaster//Event Calendar 2.0//EN
METHOD:PUBLISH
X-PUBLISHED-TTL:P3D
REFRESH-INTERVAL:P3D
CALSCALE:GREGORIAN
BEGIN:VEVENT
DTSTART:20140507T003000Z
DTEND:20140507T010000Z
X-MICROSOFT-CDO-ALLDAYEVENT:FALSE
SUMMARY:Community Land Trust FREE Introductory Information
DESCRIPTION:Attend this FREE Info session on the community land trust model--an affordable homeownership program and learn about upcoming homeownership opportunities in Ellensburg.
X-ALT-DESC;FMTTYPE=text/html:Attend this FREE Info session on the community land trust model--an affordable homeownership program and learn about upcoming homeownership opportunities in Ellensburg.
LOCATION:Kittitas Yakima Valley Community Land Trust 518 N. Pine St.\, Suite 102 Ellensburg
UID:e.40.11615
SEQUENCE:3
DTSTAMP:20260419T130549Z
URL:http://business.kittitascountychamber.com/events/details/community-land-trust-free-introductory-information-05-06-2014-11615
END:VEVENT

END:VCALENDAR
