BEGIN:VCALENDAR
VERSION:2.0
PRODID:-//ChamberMaster//Event Calendar 2.0//EN
METHOD:PUBLISH
X-PUBLISHED-TTL:P3D
REFRESH-INTERVAL:P3D
CALSCALE:GREGORIAN
BEGIN:VEVENT
DTSTART:20140417T160000Z
DTEND:20140417T200000Z
X-MICROSOFT-CDO-ALLDAYEVENT:FALSE
SUMMARY:Community Wellness Fair
DESCRIPTION:The next Community Wellness Fair is scheduled for Thursday April 17th from 9-1pm at the Rosewood Community Clubhouse. Its a new date & location so be sure to save the date!
X-ALT-DESC;FMTTYPE=text/html:The next Community Wellness Fair is scheduled for Thursday April 17th from 9-1pm at the Rosewood Community Clubhouse. Its a new date &amp\; location so be sure to save the date!&nbsp\;
LOCATION:Rosewood Community Clubhouse
UID:e.40.10954
SEQUENCE:3
DTSTAMP:20260419T143918Z
URL:http://business.kittitascountychamber.com/events/details/community-wellness-fair-04-17-2014-10954
END:VEVENT

END:VCALENDAR
