BEGIN:VCALENDAR
VERSION:2.0
PRODID:-//ChamberMaster//Event Calendar 2.0//EN
METHOD:PUBLISH
X-PUBLISHED-TTL:P3D
REFRESH-INTERVAL:P3D
CALSCALE:GREGORIAN
BEGIN:VEVENT
DTSTART:20130424T150000Z
DTEND:20130424T160000Z
X-MICROSOFT-CDO-ALLDAYEVENT:FALSE
SUMMARY:Complimentary- Breakfast to Go! At Mountain View Meadows
DESCRIPTION:Stop by Mountain View Meadows for a short tour and take a meal to go. Meal includes Coffee and Muffins on arrival and Breakfast Sandwich and Fruit to go!\n\nPlease RSVP to 509-925-4484 by 4/23
X-ALT-DESC;FMTTYPE=text/html:<span style="color: rgb(178\,34\,34)"><em><strong>Stop by&nbsp\;Mountain View Meadows for a short tour and take a meal to go. Meal includes Coffee and Muffins on arrival and Breakfast Sandwich and Fruit to go!<br />\nPlease RSVP to 509-925-4484 by 4/23</strong></em></span>
LOCATION:Mountain View Meadows 1008 E. Mountain View Ave\, Ellensburg
UID:e.40.10267
SEQUENCE:3
DTSTAMP:20260420T114109Z
URL:http://business.kittitascountychamber.com/events/details/complimentary-breakfast-to-go-at-mountain-view-meadows-04-24-2013-10267
END:VEVENT

END:VCALENDAR
