BEGIN:VCALENDAR
VERSION:2.0
PRODID:-//ChamberMaster//Event Calendar 2.0//EN
METHOD:PUBLISH
X-PUBLISHED-TTL:P3D
REFRESH-INTERVAL:P3D
CALSCALE:GREGORIAN
BEGIN:VEVENT
DTSTART:20240213T200000Z
DTEND:20240213T210000Z
X-MICROSOFT-CDO-ALLDAYEVENT:FALSE
SUMMARY:ConnectIn Kittitas Networking group
DESCRIPTION:Join fellow business owners of Kittitas County\, at The Tav every other Tuesday from 12-1pm. This is a chance to connect with other owners\, collab\, ask questions\, gain resources and gain referral based relationships!
X-ALT-DESC;FMTTYPE=text/html:Join fellow business owners of Kittitas County\, at The Tav every other Tuesday from 12-1pm. This is a chance to connect with other owners\, collab\, ask questions\, gain resources and gain referral based relationships!
LOCATION:The Tav\, Ellensburg 117 W 4th ave
UID:e.40.27825
SEQUENCE:3
DTSTAMP:20260422T040235Z
URL:http://business.kittitascountychamber.com/events/details/connectin-kittitas-networking-group-02-13-2024-27825
END:VEVENT

END:VCALENDAR
