BEGIN:VCALENDAR
VERSION:2.0
PRODID:-//ChamberMaster//Event Calendar 2.0//EN
METHOD:PUBLISH
X-PUBLISHED-TTL:P3D
REFRESH-INTERVAL:P3D
CALSCALE:GREGORIAN
BEGIN:VEVENT
DTSTART:20140501T003000Z
DTEND:20140501T033000Z
X-MICROSOFT-CDO-ALLDAYEVENT:FALSE
SUMMARY:Cooking Class in the Canyon
DESCRIPTION:Cooking Class in the Canyon!\n\n$75.00 per person/ 5:30-8:30pm\n\n\n\n Join Canyon River Lodge & Canyon River Grill for a year of cooking classes with Chef Patrick! With one class a month\, learn to make everything from a spectacular weekend brunch to a complete Northwest Cookout to a fine cheese & wine course!
X-ALT-DESC;FMTTYPE=text/html:Cooking Class in the Canyon!<br />\n$75.00 per person/ 5:30-8:30pm<br />\n<br />\n&#8203\;Join Canyon River Lodge &amp\; Canyon River Grill for a year of cooking classes with Chef Patrick! With one class a month\, learn to make everything from a spectacular weekend brunch to a complete Northwest Cookout to a fine cheese &amp\; wine course!<br />\n&nbsp\;
LOCATION:Canyon River Lodge & Canyon River Grill
UID:e.40.11308
SEQUENCE:3
DTSTAMP:20260419T144004Z
URL:http://business.kittitascountychamber.com/events/details/cooking-class-in-the-canyon-04-30-2014-11308
END:VEVENT

END:VCALENDAR
